BEGIN:VCALENDAR
VERSION:2.0
PRODID:-//Villa Valbonne - ECPv6.15.20//NONSGML v1.0//EN
CALSCALE:GREGORIAN
METHOD:PUBLISH
X-ORIGINAL-URL:https://villa-valbonne.nl
X-WR-CALDESC:Evenementen voor Villa Valbonne
REFRESH-INTERVAL;VALUE=DURATION:PT1H
X-Robots-Tag:noindex
X-PUBLISHED-TTL:PT1H
BEGIN:VTIMEZONE
TZID:Europe/Amsterdam
BEGIN:DAYLIGHT
TZOFFSETFROM:+0100
TZOFFSETTO:+0200
TZNAME:CEST
DTSTART:20230326T010000
END:DAYLIGHT
BEGIN:STANDARD
TZOFFSETFROM:+0200
TZOFFSETTO:+0100
TZNAME:CET
DTSTART:20231029T010000
END:STANDARD
BEGIN:DAYLIGHT
TZOFFSETFROM:+0100
TZOFFSETTO:+0200
TZNAME:CEST
DTSTART:20240331T010000
END:DAYLIGHT
BEGIN:STANDARD
TZOFFSETFROM:+0200
TZOFFSETTO:+0100
TZNAME:CET
DTSTART:20241027T010000
END:STANDARD
BEGIN:DAYLIGHT
TZOFFSETFROM:+0100
TZOFFSETTO:+0200
TZNAME:CEST
DTSTART:20250330T010000
END:DAYLIGHT
BEGIN:STANDARD
TZOFFSETFROM:+0200
TZOFFSETTO:+0100
TZNAME:CET
DTSTART:20251026T010000
END:STANDARD
BEGIN:DAYLIGHT
TZOFFSETFROM:+0100
TZOFFSETTO:+0200
TZNAME:CEST
DTSTART:20260329T010000
END:DAYLIGHT
BEGIN:STANDARD
TZOFFSETFROM:+0200
TZOFFSETTO:+0100
TZNAME:CET
DTSTART:20261025T010000
END:STANDARD
BEGIN:DAYLIGHT
TZOFFSETFROM:+0100
TZOFFSETTO:+0200
TZNAME:CEST
DTSTART:20270328T010000
END:DAYLIGHT
BEGIN:STANDARD
TZOFFSETFROM:+0200
TZOFFSETTO:+0100
TZNAME:CET
DTSTART:20271031T010000
END:STANDARD
END:VTIMEZONE
BEGIN:VEVENT
DTSTART;VALUE=DATE:20260309
DTEND;VALUE=DATE:20260314
DTSTAMP:20260421T012728
CREATED:20200906T132803Z
LAST-MODIFIED:20250708T115749Z
UID:3040-1773014400-1773446399@villa-valbonne.nl
SUMMARY:Mipim Cannes - Vastgoedbeurs
DESCRIPTION:Jaarlijks vindt in Cannes de internationale vastgoedbeurs MIPIM plaats. De MIPIM is één van de grootste en oudste vastgoedbeurzen in Europa. In 2026 zal de beurs weer plaatsvinden in het Palais de Festival in Cannes van 9-13 maart 2026
URL:https://villa-valbonne.nl/event/mipim/
LOCATION:Cannes\, Frankrijk
CATEGORIES:Events
ATTACH;FMTTYPE=image/jpeg:https://villa-valbonne.nl/wp-content/uploads/2016/10/mipim-palais-des-festivals-cannes.jpg
END:VEVENT
BEGIN:VEVENT
DTSTART;VALUE=DATE:20260211
DTEND;VALUE=DATE:20260302
DTSTAMP:20260421T012728
CREATED:20200906T131837Z
LAST-MODIFIED:20250708T120138Z
UID:3035-1770768000-1772409599@villa-valbonne.nl
SUMMARY:Nice Carnaval
DESCRIPTION:Carnaval van Nice\nHet jaarlijkse Carnaval van Nice vindt in 2026 plaats van 11 februari tot 1 maart 2026. Het thema is dit jaar “Vive la Reine”
URL:https://villa-valbonne.nl/event/nice-carnaval/
LOCATION:Nice\, Frankrijk
CATEGORIES:Events
ATTACH;FMTTYPE=image/jpeg:https://villa-valbonne.nl/wp-content/uploads/2016/10/carnaval-nice.jpg
END:VEVENT
BEGIN:VEVENT
DTSTART;VALUE=DATE:20260116
DTEND;VALUE=DATE:20260126
DTSTAMP:20260421T012728
CREATED:20200906T131214Z
LAST-MODIFIED:20250708T120459Z
UID:3032-1768521600-1769385599@villa-valbonne.nl
SUMMARY:International Circus Festival of Monte-Carlo
DESCRIPTION:Circus Monaco – Monte Carlo\nJaarlijks vindt in januari in Monaco het beroemde circus plaats waarbij  Prins Albert en prinses Stephanie vrijwel altijd aanwezig zijn. De laatste is beschermvrouw en president van het circusfestival. Het evenement is in 1974 gestart door de overleden prins Reinier. Prinses Stephanie is er al op jonge leeftijd bij betrokken geraakt. \n\n \nHet Circus zal plaatsvinden van 16 tot 25 januari 2026
URL:https://villa-valbonne.nl/event/international-circus-festival-monte-carlo/
LOCATION:Monaco\, Monaco
CATEGORIES:Events
ATTACH;FMTTYPE=image/jpeg:https://villa-valbonne.nl/wp-content/uploads/2016/10/Circus-Monte-Carlo.jpg
END:VEVENT
BEGIN:VEVENT
DTSTART;VALUE=DATE:20250909
DTEND;VALUE=DATE:20250915
DTSTAMP:20260421T012728
CREATED:20241018T130511Z
LAST-MODIFIED:20250708T121523Z
UID:3029-1757376000-1757894399@villa-valbonne.nl
SUMMARY:Cannes Boat Show
DESCRIPTION:Cannes Boat Show\nJaarlijks wordt in September in het Franse Cannes –  bekend van het beroemde filmfestival – de beroemde Cannes Boat Show gehouden. Ruim 400 exposanten uit ruim 20 landen laten hier jaarlijks hun zeil- en motorjachten zien.
URL:https://villa-valbonne.nl/event/cannes-boat-show/
LOCATION:Cannes\, Frankrijk
CATEGORIES:Events
ATTACH;FMTTYPE=image/jpeg:https://villa-valbonne.nl/wp-content/uploads/ngg_featured/cannes-cote-d-azur.JPG
END:VEVENT
BEGIN:VEVENT
DTSTART;VALUE=DATE:20240921
DTEND;VALUE=DATE:20240923
DTSTAMP:20260421T012728
CREATED:20200120T125144Z
LAST-MODIFIED:20230329T110257Z
UID:12611-1726876800-1727049599@villa-valbonne.nl
SUMMARY:Les Etoiles de Mougins - Culinair Festival 2024
DESCRIPTION:Les Etoiles de Mougins\nJaarlijks vindt hier het Gastronomische Festival Les Etoiles de Mougins plaats. Dit festival begon in 2006 ter nagedachtenis aan Roger Vergé\, oprichter van het bekende restaurant Moulin de Mougins. \nGedurende twee dagen transformeert het dorp Mougins in een groot openluchttheater vol met de heerlijke aroma’s van voedsel bereid door enkele van de grootste namen in de gastronomie. Door de jaren heen heeft het evenement een uitzonderlijke line-up van Michelin-sterrenchefs uit de hele wereld aangetrokken\, evenals een rijkdom aan aanstormend jong talent. \nHun missie: hun passie voor eten met je delen! \nBezoek Les Étoiles de Mougins in september 2024 in het dorp Mougins rond chef Jacques Maximin vergezeld door honderd van de beste chefs in Frankrijk. Een 15e editie gewijd aan culinaire uitmuntendheid in al zijn vormen. \n\n				\n					\n					\n					\n				Loading the next set of gallery items...Load More
URL:https://villa-valbonne.nl/event/les-etoiles-de-mougins/
LOCATION:Mougins\, Mougins\, Frankrijk
CATEGORIES:Events
ATTACH;FMTTYPE=image/jpeg:https://villa-valbonne.nl/wp-content/uploads/2020/01/Les-Etoiles-de-Mougins-Gastronomisch-Festival-4.jpg
END:VEVENT
END:VCALENDAR